BEGIN:VCALENDAR
VERSION:2.0
PRODID:-//https://www.music-college.de///NONSGML kigkonsult.se iCalcreator 2.10.15//
METHOD:PUBLISH
BEGIN:VEVENT
UID:20260420T111026CEST-3905aUOVNR@https://www.music-college.de/
DTSTAMP:20260420T091026Z
DESCRIPTION: https://www.music-college.de/index.php/pages/events2/event/6-e
 arfood-im-jugendhaus-fritzer
DTSTART;VALUE=DATE:20260626
LOCATION:Jugendhaus Fritzer (Talstrasse 13\, 99089 Erfurt)
SUMMARY:Earfood im Jugendhaus Fritzer
URL:https://www.music-college.de/index.php/pages/events2/event/6-earfood-im
 -jugendhaus-fritzer
END:VEVENT
END:VCALENDAR
